BEGIN:VCALENDAR
VERSION:2.0
PRODID:-//The Still - ECPv6.15.20//NONSGML v1.0//EN
CALSCALE:GREGORIAN
METHOD:PUBLISH
X-WR-CALNAME:The Still
X-ORIGINAL-URL:https://www.thestill.com
X-WR-CALDESC:Events for The Still
REFRESH-INTERVAL;VALUE=DURATION:PT1H
X-Robots-Tag:noindex
X-PUBLISHED-TTL:PT1H
BEGIN:VTIMEZONE
TZID:UTC
BEGIN:STANDARD
TZOFFSETFROM:+0000
TZOFFSETTO:+0000
TZNAME:UTC
DTSTART:20250101T000000
END:STANDARD
END:VTIMEZONE
BEGIN:VEVENT
DTSTART;TZID=UTC:20260424T150000
DTEND;TZID=UTC:20260424T180000
DTSTAMP:20260425T004652
CREATED:20260324T182843Z
LAST-MODIFIED:20260324T182843Z
UID:2662-1777042800-1777053600@www.thestill.com
SUMMARY:THE STILL LINCOLN
DESCRIPTION:Friday\, April 24th\, From 3 – 6 PM \nFREE Grey Goose Berry Rouge & Essences Vodka Tasting
URL:https://www.thestill.com/events/free-grey-goose-berry-rouge-essences-vodka-tasting
LOCATION:The Still – Lincoln\, 6820 South 70th Street\, Lincoln\, NE\, 68516\, United States
END:VEVENT
BEGIN:VEVENT
DTSTART;TZID=UTC:20260424T170000
DTEND;TZID=UTC:20260424T190000
DTSTAMP:20260425T004652
CREATED:20260418T182331Z
LAST-MODIFIED:20260418T182331Z
UID:2709-1777050000-1777057200@www.thestill.com
SUMMARY:ELKHORN Jackson Family Wine Tasting 4/24
DESCRIPTION:Join us in Elkhorn for a tasting of some beautiful and affordable wines from the Jackson Family! \nWines being sampled include: \n\nKendall Jackson Chenin Blanc\nKendall Jackson Pinot Noir\nKendall Jackson Cabernet Sauvignon\nEdmeades Zinfandel\nCambria Pinot Noir\nCambria Chardonnay\n\nThese wines are exceptional\, affordable\, and make any meal more enjoyable!
URL:https://www.thestill.com/events/elkhorn-jackson-family-wine-tasting-4-24
LOCATION:The Still – Coventry\, 5606 South 204th Avenue\, Elkhorn\, NE\, 68022\, United States
END:VEVENT
END:VCALENDAR